BEGIN:VCALENDAR
VERSION:2.0
PRODID:-//Wheat City Golf Course - ECPv6.15.18//NONSGML v1.0//EN
CALSCALE:GREGORIAN
METHOD:PUBLISH
X-WR-CALNAME:Wheat City Golf Course
X-ORIGINAL-URL:https://www.wheatcitygolf.com
X-WR-CALDESC:Events for Wheat City Golf Course
REFRESH-INTERVAL;VALUE=DURATION:PT1H
X-Robots-Tag:noindex
X-PUBLISHED-TTL:PT1H
BEGIN:VTIMEZONE
TZID:UTC
BEGIN:STANDARD
TZOFFSETFROM:+0000
TZOFFSETTO:+0000
TZNAME:UTC
DTSTART:20240101T000000
END:STANDARD
END:VTIMEZONE
BEGIN:VEVENT
DTSTART;TZID=UTC:20260327T130000
DTEND;TZID=UTC:20260327T180000
DTSTAMP:20260419T155117
CREATED:20250617T151219Z
LAST-MODIFIED:20260316T200150Z
UID:10000012-1774616400-1774634400@www.wheatcitygolf.com
SUMMARY:Cobra Fitting Day
DESCRIPTION:Sign up for the COBRA Fitting Day Here: \nhttps://form.jotform.com/260497398616270
URL:https://www.wheatcitygolf.com/event/cobrafitday/
LOCATION:Shanks Driving Range
END:VEVENT
BEGIN:VEVENT
DTSTART;TZID=UTC:20260325T120000
DTEND;TZID=UTC:20260325T180000
DTSTAMP:20260419T155117
CREATED:20250514T145139Z
LAST-MODIFIED:20260218T171804Z
UID:10000009-1774440000-1774461600@www.wheatcitygolf.com
SUMMARY:PING Fitting Day
DESCRIPTION:Sign up for the PING Fitting Day Here: https://form.jotform.com/251315908462255
URL:https://www.wheatcitygolf.com/event/ping-fitting-day-monday-july-7th/
LOCATION:Shanks Driving Range
END:VEVENT
BEGIN:VEVENT
DTSTART;TZID=UTC:20260320T110000
DTEND;TZID=UTC:20260320T170000
DTSTAMP:20260419T155117
CREATED:20250212T194016Z
LAST-MODIFIED:20260220T003358Z
UID:10000004-1774004400-1774026000@www.wheatcitygolf.com
SUMMARY:Titleist Fitting Day
DESCRIPTION:Sign up for our upcoming club fitting day here: Link to Sign-Up
URL:https://www.wheatcitygolf.com/event/titleist-fitting-day/
LOCATION:Shanks Driving Range
END:VEVENT
BEGIN:VEVENT
DTSTART;TZID=UTC:20260309T120000
DTEND;TZID=UTC:20260309T180000
DTSTAMP:20260419T155117
CREATED:20250605T172750Z
LAST-MODIFIED:20260218T172230Z
UID:10000011-1773057600-1773079200@www.wheatcitygolf.com
SUMMARY:Callaway Fitting Day
DESCRIPTION:Sign up for the Callaway Fitting Day Here: https://form.jotform.com/251235449471256
URL:https://www.wheatcitygolf.com/event/callaway-fitting-day-2/
LOCATION:Shanks Driving Range
END:VEVENT
BEGIN:VEVENT
DTSTART;TZID=UTC:20260309T120000
DTEND;TZID=UTC:20260309T180000
DTSTAMP:20260419T155117
CREATED:20250212T193452Z
LAST-MODIFIED:20260218T172803Z
UID:10000002-1773057600-1773079200@www.wheatcitygolf.com
SUMMARY:Srixon Fitting Day
DESCRIPTION:Sign up for our upcoming club fitting day here: Link to Sign-Up
URL:https://www.wheatcitygolf.com/event/cleveland-srixon-fitting-day/
LOCATION:Shanks Driving Range
END:VEVENT
BEGIN:VEVENT
DTSTART;TZID=UTC:20260306T120000
DTEND;TZID=UTC:20260306T180000
DTSTAMP:20260419T155117
CREATED:20250514T145438Z
LAST-MODIFIED:20260218T172519Z
UID:10000010-1772798400-1772820000@www.wheatcitygolf.com
SUMMARY:TaylorMade Fitting Day
DESCRIPTION:Sign up for the TaylorMade Fitting Day Here: https://form.jotform.com/251333770719257
URL:https://www.wheatcitygolf.com/event/taylormade-fitting-day-2/
LOCATION:Shanks Driving Range
END:VEVENT
BEGIN:VEVENT
DTSTART;TZID=UTC:20250522T120000
DTEND;TZID=UTC:20250522T180000
DTSTAMP:20260419T155117
CREATED:20250509T143813Z
LAST-MODIFIED:20250514T150048Z
UID:10000007-1747915200-1747936800@www.wheatcitygolf.com
SUMMARY:Titleist Fitting Day - Thursday\, May 22nd
DESCRIPTION:Sign up for the Titleist Fitting Day Here: https://form.jotform.com/251333851581254
URL:https://www.wheatcitygolf.com/event/titleist-fitting-day-thursday-may-22nd/
LOCATION:Shanks Driving Range
END:VEVENT
BEGIN:VEVENT
DTSTART;TZID=UTC:20250326T120000
DTEND;TZID=UTC:20250326T180000
DTSTAMP:20260419T155117
CREATED:20250310T183122Z
LAST-MODIFIED:20250310T183122Z
UID:10000006-1742990400-1743012000@www.wheatcitygolf.com
SUMMARY:Cobra Fitting Day
DESCRIPTION:Sign up Here: https://form.jotform.com/250685642214254
URL:https://www.wheatcitygolf.com/event/cobra-fitting-day/
LOCATION:Shanks Driving Range
END:VEVENT
BEGIN:VEVENT
DTSTART;TZID=UTC:20250324T120000
DTEND;TZID=UTC:20250324T180000
DTSTAMP:20260419T155117
CREATED:20250212T184016Z
LAST-MODIFIED:20250307T180204Z
UID:10000001-1742817600-1742839200@www.wheatcitygolf.com
SUMMARY:Ping Fitting Day
DESCRIPTION:Sign up for our upcoming club fitting day here: Link to Sign-Up
URL:https://www.wheatcitygolf.com/event/ping-fitting-day/
LOCATION:Shanks Driving Range
END:VEVENT
BEGIN:VEVENT
DTSTART;TZID=UTC:20250321T120000
DTEND;TZID=UTC:20250321T180000
DTSTAMP:20260419T155117
CREATED:20250307T100007Z
LAST-MODIFIED:20250307T180705Z
UID:10000003-1742558400-1742580000@www.wheatcitygolf.com
SUMMARY:Callaway Fitting Day
DESCRIPTION:Sign up for our upcoming club fitting day here: Link to Sign-Up
URL:https://www.wheatcitygolf.com/event/callaway-fitting-day/
LOCATION:Shanks Driving Range
END:VEVENT
BEGIN:VEVENT
DTSTART;TZID=UTC:20250318T120000
DTEND;TZID=UTC:20250318T180000
DTSTAMP:20260419T155117
CREATED:20250212T194341Z
LAST-MODIFIED:20250307T181043Z
UID:10000005-1742299200-1742320800@www.wheatcitygolf.com
SUMMARY:TaylorMade Fitting Day
DESCRIPTION:Sign up for our upcoming club fitting day here: Link to Sign-Up
URL:https://www.wheatcitygolf.com/event/taylormade-fitting-day/
LOCATION:Shanks Driving Range
END:VEVENT
END:VCALENDAR