BEGIN:VCALENDAR
VERSION:2.0
PRODID:-//Wheat City Golf Course - ECPv6.15.18//NONSGML v1.0//EN
CALSCALE:GREGORIAN
METHOD:PUBLISH
X-ORIGINAL-URL:https://www.wheatcitygolf.com
X-WR-CALDESC:Events for Wheat City Golf Course
REFRESH-INTERVAL;VALUE=DURATION:PT1H
X-Robots-Tag:noindex
X-PUBLISHED-TTL:PT1H
BEGIN:VTIMEZONE
TZID:UTC
BEGIN:STANDARD
TZOFFSETFROM:+0000
TZOFFSETTO:+0000
TZNAME:UTC
DTSTART:20240101T000000
END:STANDARD
END:VTIMEZONE
BEGIN:VEVENT
DTSTART;VALUE=DATE:20250802
DTEND;VALUE=DATE:20250803
DTSTAMP:20260423T153427
CREATED:20250716T165552Z
LAST-MODIFIED:20250716T174010Z
UID:10000013-1754092800-1754179199@www.wheatcitygolf.com
SUMMARY:2025 Wheat City Club Championship
DESCRIPTION:2025 Wheat City Golf Course Club ChampionshipSaturday\, August 2\, 2025 \nJoin us for the 2025 Club Championship\, an 18-hole stroke play event open to Men’s\, Junior Boys\, Junior Girls\, and Senior Men’s members. \nThis year’s championship will also serve as the qualifier for the Manitoba Four-Ball Provincial Championships. The top teams from the Men’s and Senior Men’s divisions will earn spots in the provincial events: \n– Men’s Four-Ball – Hosted at Wheat City on August 28\n– Senior Men’s Four-Ball – Hosted at Pinawa Golf Club on September 4 \nEntry includes:• 18-hole round of golf• Bogey Bar meal after your round• One drink ticket• Great prizes for each division \nPlayers can register for either the AM or PM wave of tee times. \nEntry Fees:• $45 – Men’s and Senior Men’s Divisions• $30 – Junior Divisions \nRegistration closes on July 31st. \nRegistration:Sign up online at form.jotform.com/251956098196068 \nWe look forward to seeing everyone out for a great day of competition and camaraderie.
URL:https://www.wheatcitygolf.com/event/2025-club-championship/
LOCATION:Wheat City Golf Course
END:VEVENT
END:VCALENDAR